BEGIN:VCALENDAR
VERSION:2.0
PRODID:-//Library Market//iCal Export//EN
BEGIN:VEVENT
SUMMARY:Sarasota Memorial Day Parade
UID:331475
DTSTAMP:20260425T113400Z
DTSTART:20260525T140000Z
DTEND:20260525T150000Z
LOCATION:Main Street and Orange, Sarasota, FL 34236, United States
ROOM: Sarasota Memorial Day Parade
DESCRIPTION:Come enjoy a fun filled parade that includes Sarasota County&#
 039;s Pop-Up Library!The City of Sarasota, in conjunction with the Sarasot
 a Patriotic Observance Committee, will host the annual Memorial Day parade
  at 10 a.m. Monday, May 25, in downtown Sarasota.The parade will start at 
 Main Street and Orange Avenue and conclude at Chaplain J.D. Hamel Park, lo
 cated at Main Street and Gulfstream Avenue, where a ceremony will be held 
 at approximately 11 a.m. The public is encouraged to attend. The theme of
  this year’s proceedings is “All Gave Some…Some Gave All.”The cere
 mony is planned to feature guest speaker Charlie Halley, a U.S. Army veter
 an who served on active duty and in the U.S. Army Reserve for nearly 11 ye
 ars and rose to the rank of corporal before building a diverse career in m
 edia. He is known locally as “The Comet” on his weekday morning show w
 ith WSRQ, LECOM Radio and as the founder of DD214 Jeepers, a nonprofit ded
 icated to supporting veterans in the Sarasota community.The parade will in
 clude performances by the Sarasota Military Academy band and participation
  from local law enforcement agencies, first responders, color guards, vete
 rans’ groups, community organizations and local dignitaries.Sarasota Mem
 orial Day Parade
URL:https://scgovlibrary.librarymarket.com/event/memorial-day-parade-33147
 5
END:VEVENT
END:VCALENDAR
