BEGIN:VCALENDAR
VERSION:2.0
PRODID:-//Library Market//iCal Export//EN
BEGIN:VEVENT
SUMMARY:Breakthrough/T1D/JDRF Support Meeting
UID:331452
DTSTAMP:20260426T021000Z
DTSTART:20261202T151500Z
DTEND:20261202T173000Z
LOCATION:Fruitville Library, 100 Apex Road, Sarasota, FL 34240, United Sta
 tes
ROOM: Meeting Room
DESCRIPTION:Offering education and support for people living with Type 1 D
 iabetics, parents, and caregivers
URL:https://scgovlibrary.librarymarket.com/event/breakthrought1djdrf-suppo
 rt-meeting-331452
END:VEVENT
END:VCALENDAR
