BEGIN:VCALENDAR
VERSION:2.0
PRODID:-//Library Market//iCal Export//EN
BEGIN:VEVENT
SUMMARY:Stretch-N-Grow
UID:331157
DTSTAMP:20260423T145100Z
DTSTART:20260526T151500Z
DTEND:20260526T154500Z
LOCATION:Selby Library, 1331 First St., Sarasota, FL 34236, United States
ROOM: Jack J. Geldbart Auditorium
DESCRIPTION:Join a fun exercise class with a coach from Stretch and Grow o
 f Sarasota. Recommended for ages 3-6; all ages welcome in the room as need
 ed.Space is limited. Tickets are available at the youth desk from 10:45 a.
 m.
URL:https://scgovlibrary.librarymarket.com/event/stretch-n-grow-331157
END:VEVENT
END:VCALENDAR
