BEGIN:VCALENDAR
VERSION:2.0
PRODID:-//Library Market//iCal Export//EN
BEGIN:VEVENT
SUMMARY:Ringling on the Road
UID:331151
DTSTAMP:20260423T194300Z
DTSTART:20260505T150000Z
DTEND:20260505T160000Z
LOCATION:Selby Library, 1331 First St., Sarasota, FL 34236, United States
ROOM: Youth Program Room
DESCRIPTION:This free story time program brought to the library by Ringlin
 g on the Road engages young readers in activities that connect art and ear
 ly literacy. Join us for a story and accompanying art activity based on a 
 work of art in the museum collection. This program is recommended for ages
  3-5, but family members of all ages are welcome to attend. Please note, 
 the story time portion is short and some children finish the art activity 
 faster than others. You do not need to stay the full hour of this program 
 and are welcome to enter and exit the room as needed. At the end, there i
 s a free book. The amount of free books are limited. To get a book, have a
  ticket. Tickets will be handed out at the youth desk 30 minutes prior to 
 the event starting at 10:30 a.m.
URL:https://scgovlibrary.librarymarket.com/event/ringling-road-331151
END:VEVENT
END:VCALENDAR
