BEGIN:VCALENDAR
VERSION:2.0
PRODID:-//Library Market//iCal Export//EN
BEGIN:VEVENT
SUMMARY:Voting equipment removal
UID:330945
DTSTAMP:20260422T105600Z
DTSTART:20260817T040000Z
DTEND:20260818T040000Z
LOCATION:Fruitville Library, 100 Apex Road, Sarasota, FL 34240, United Sta
 tes
ROOM: Meeting Room
DESCRIPTION:
URL:https://scgovlibrary.librarymarket.com/event/voting-equipment-removal-
 330945
END:VEVENT
END:VCALENDAR
