BEGIN:VCALENDAR
VERSION:2.0
PRODID:-//Library Market//iCal Export//EN
BEGIN:VEVENT
SUMMARY:Lego Afternoon
UID:330928
DTSTAMP:20260423T082800Z
DTSTART:20260501T190000Z
DTEND:20260501T203000Z
LOCATION:William H. Jervey Jr. Venice Library, 300 Nokomis Avenue South, V
 enice, FL 34285, United States
ROOM: Storytime Room
DESCRIPTION:Drop-in and build! Using the Legos provided, let your imaginat
 ion run wild. Will it be an animal? A building? Or something never imagine
 d before? You decide! Each creation will be displayed in the library until
  the next Lego Night when you can start again.
URL:https://scgovlibrary.librarymarket.com/event/lego-afternoon-330928
END:VEVENT
END:VCALENDAR
