BEGIN:VCALENDAR
VERSION:2.0
PRODID:-//Library Market//iCal Export//EN
BEGIN:VEVENT
SUMMARY:Early Voting- 8:30 a.m. - 4:30 p.m.
UID:330797
DTSTAMP:20260421T131900Z
DTSTART:20260808T040000Z
DTEND:20260816T040000Z
LOCATION:Fruitville Library, 100 Apex Road, Sarasota, FL 34240, United Sta
 tes
ROOM: Conference Room
DESCRIPTION:
URL:https://scgovlibrary.librarymarket.com/event/early-voting-330797
END:VEVENT
END:VCALENDAR
