BEGIN:VCALENDAR
VERSION:2.0
PRODID:-//Library Market//iCal Export//EN
BEGIN:VEVENT
SUMMARY:Matter of Balance
UID:330736
DTSTAMP:20260424T100100Z
DTSTART:20260831T143000Z
DTEND:20260831T160000Z
LOCATION:Elsie Quirk Library, 100 W. Dearborn Street, Englewood, FL 34223,
  United States
ROOM: Meeting Room
DESCRIPTION:A Matter of Balance is an award-winning program designed to he
 lp people learn practical strategies to manage falls and increase physical
  activity levels. Participants will learn:view falls as controllableset g
 oals for increasing activitymake changes to reduce fall risks at homeexerc
 ise to increase strength and balanceWho should attend?anyone concerned abo
 ut fallsanyone interested in improving balance, flexibility and strengthan
 yone who has fallen in the pastanyone who has restricted activities becaus
 e of falling concernsThis is an 8-week class led by Kelly Ward, Florida D
 ept. of Health Sarasota County.Registration is required and limited to 16 
 participants.  Participants MUST attend 5 of 8 classes to graduate. Reg
 istration is available on the first meeting date, July 13.
URL:https://scgovlibrary.librarymarket.com/event/matter-balance-330736
END:VEVENT
END:VCALENDAR
