BEGIN:VCALENDAR
VERSION:2.0
PRODID:-//Library Market//iCal Export//EN
BEGIN:VEVENT
SUMMARY:Florida Folk Music
UID:330574
DTSTAMP:20260419T193600Z
DTSTART:20260720T180000Z
DTEND:20260720T184500Z
LOCATION:Elsie Quirk Library, 100 W. Dearborn Street, Englewood, FL 34223,
  United States
ROOM: Meeting Room
DESCRIPTION:Join local musician James Hawkins for a program filled with fo
 lk songs and captivating stories about the colorful people and events that
  have shaped Venice, Sarasota, and the Sunshine State of Florida. Don’t 
 miss out on this entertaining musical journey!
URL:https://scgovlibrary.librarymarket.com/event/florida-folk-music-330574
END:VEVENT
END:VCALENDAR
