BEGIN:VCALENDAR
VERSION:2.0
PRODID:-//Library Market//iCal Export//EN
BEGIN:VEVENT
SUMMARY:ABC&#039;s of Balance
UID:330408
DTSTAMP:20260421T232700Z
DTSTART:20260624T143000Z
DTEND:20260624T160000Z
LOCATION:Elsie Quirk Library, 100 W. Dearborn Street, Englewood, FL 34223,
  United States
ROOM: Meeting Room
DESCRIPTION:You don’t want to miss this dynamic, educational workshop le
 d by Kelly Ward, Florida Dept. of Health Sarasota County, that dives deep
 er into the body systems involved in balance and mobility. Because no two
  bodies are the same, there is not a one-size fits all approach to fall pr
 evention training; it should be individualized and progressively challengi
 ng to be successful. This workshop provides a neurology-based approach to 
 fall risk reduction. 
URL:https://scgovlibrary.librarymarket.com/event/abcs-balance-330408
END:VEVENT
END:VCALENDAR
