BEGIN:VCALENDAR
VERSION:2.0
PRODID:-//Library Market//iCal Export//EN
BEGIN:VEVENT
SUMMARY:Book Folding Vases
UID:330071
DTSTAMP:20260419T150400Z
DTSTART:20260512T213000Z
DTEND:20260512T230000Z
LOCATION:Betty J. Johnson North Sarasota Library, 2801 Newtown Blvd., Sara
 sota, FL 34234, United States
ROOM: Meeting Room II
DESCRIPTION:Fold, craft, and fall in love with a charming, book-folded vas
 e. Learn how repurpose old books with a creative and sustainable craft.For
  adults. Registration required.
URL:https://scgovlibrary.librarymarket.com/event/book-folding-vases-330071
END:VEVENT
END:VCALENDAR
