BEGIN:VCALENDAR
VERSION:2.0
PRODID:-//Library Market//iCal Export//EN
BEGIN:VEVENT
SUMMARY:AniCom Club
UID:329801
DTSTAMP:20260421T232700Z
DTSTART:20260819T213000Z
DTEND:20260819T223000Z
LOCATION:Selby Library, 1331 First St., Sarasota, FL 34236, United States
ROOM: Conference Room B
DESCRIPTION:Come join fellow Anime and Comics enthusiasts in discussions a
 bout our favorite shows, comics &amp; Manga! For new adults (18-30 years 
 old).
URL:https://scgovlibrary.librarymarket.com/event/anicom-club-329801
END:VEVENT
END:VCALENDAR
