BEGIN:VCALENDAR
VERSION:2.0
PRODID:-//Library Market//iCal Export//EN
BEGIN:VEVENT
SUMMARY:ROAR! On the road with the Ringling
UID:329152
DTSTAMP:20260419T154500Z
DTSTART:20260624T203000Z
DTEND:20260624T213000Z
LOCATION:Betty J. Johnson North Sarasota Library, 2801 Newtown Blvd., Sara
 sota, FL 34234, United States
ROOM: Meeting Room II
DESCRIPTION:ROAR! is The Ringling&#039;s free storytime that connects art 
 with early literacy. At this program, we read together, make art, and lear
 n about an object in the museum. This program is designed for preschoolers
  and toddlers, but all ages are welcome! Check in at the youth desk 15 mi
 nutes before the program, as space is limited.
URL:https://scgovlibrary.librarymarket.com/event/roar-road-ringling-329152
END:VEVENT
END:VCALENDAR
