BEGIN:VCALENDAR
VERSION:2.0
PRODID:-//Library Market//iCal Export//EN
BEGIN:VEVENT
SUMMARY:Remembering Those Who Served: Van of Valor
UID:328128
DTSTAMP:20260424T101500Z
DTSTART:20260522T180000Z
DTEND:20260522T193000Z
LOCATION:Selby Library, 1331 First St., Sarasota, FL 34236, United States
ROOM: Jack J. Geldbart Auditorium
DESCRIPTION:During this multimedia presentation, Kevin and Lauren Wallace 
 tell how they traveled across 48 states in a converted FedEx van to record
  veterans&#039; stories&#039; and families&#039; stories.
URL:https://scgovlibrary.librarymarket.com/event/dr-tbd-328128
END:VEVENT
END:VCALENDAR
