BEGIN:VCALENDAR
VERSION:2.0
PRODID:-//Library Market//iCal Export//EN
BEGIN:VEVENT
SUMMARY:Art Junque Journals
UID:326881
DTSTAMP:20260419T154500Z
DTSTART:20260625T143000Z
DTEND:20260625T163000Z
LOCATION:Elsie Quirk Library, 100 W. Dearborn Street, Englewood, FL 34223,
  United States
ROOM: Meeting Room
DESCRIPTION:Join local artist Carolyn Robinette in Creating Your Own Art J
 unque Journal, filled with ephemera, and adorned with recycled pages for t
 he cover. Hand-bound with linen thread, this journal will serve as a canva
 s for our creativity and a treasure trove for keepsakes.Ample pages and sp
 ace for:ArtCollagePoetry &amp; QuotesTravel reflectionsAnd much moreAll ne
 cessary materials will be provided, includingPaperEmbellishmentsGlueStenci
 lsStampsWashi tapeA selection of stickersFeel free to bring along any favo
 rite scrapbook paper or art supplies you’d like to use in class, such as
  saved greeting cards and birthday cards. These items will enhance and per
 sonalize your journal as we create pockets for your ephemera, and we&#039;
 ll complete the experience by decorating our covers.
URL:https://scgovlibrary.librarymarket.com/event/journals-326881
END:VEVENT
END:VCALENDAR
