BEGIN:VCALENDAR
VERSION:2.0
PRODID:-//Library Market//iCal Export//EN
BEGIN:VEVENT
SUMMARY:AM Resume Building Workshop
UID:319278
DTSTAMP:20260419T193600Z
DTSTART:20260513T150000Z
DTEND:20260513T163000Z
LOCATION:Betty J. Johnson North Sarasota Library, 2801 Newtown Blvd., Sara
 sota, FL 34234, United States
ROOM: Dr. Edward James II Meeting Room
DESCRIPTION:Join SHRM workplace professionals for an interactive Resume Bu
 ilding workshop!Learn the Do’s and Don’ts of effective resume writing.
 Practice with hands-on assistance to help kick-start or revise your person
 alized resume. Participants may bring their own device or use a provided 
 in-class iPad.Registration recommended as materials are limited.
URL:https://scgovlibrary.librarymarket.com/event/am-resume-building-worksh
 op-319278
END:VEVENT
END:VCALENDAR
