BEGIN:VCALENDAR
VERSION:2.0
PRODID:-//Library Market//iCal Export//EN
BEGIN:VEVENT
SUMMARY:Summer Learning: DIY Chia Friend Creation
UID:318971
DTSTAMP:20260419T154500Z
DTSTART:20260625T180000Z
DTEND:20260625T193000Z
LOCATION:Betty J. Johnson North Sarasota Library, 2801 Newtown Blvd., Sara
 sota, FL 34234, United States
ROOM: Meeting Room II
DESCRIPTION:Patrons of all ages are invited to create their very own chia 
 friend. Plant the seeds and watch how it grows! 
URL:https://scgovlibrary.librarymarket.com/event/summer-program-placeholde
 r-318971
END:VEVENT
END:VCALENDAR
