BEGIN:VCALENDAR
VERSION:2.0
PRODID:-//Library Market//iCal Export//EN
BEGIN:VEVENT
SUMMARY:Summer Finale: Bug Bash
UID:310699
DTSTAMP:20260422T043000Z
DTSTART:20260729T170000Z
DTEND:20260729T190000Z
LOCATION:Betty J. Johnson North Sarasota Library, 2801 Newtown Blvd., Sara
 sota, FL 34234, United States
ROOM: Dr. Edward James II Meeting Room
DESCRIPTION:Celebrate the end of summer with a bug-themed bash featuring i
 nteractive stations, crafts, games, and some creepy-crawly surprises for t
 he whole family. 
URL:https://scgovlibrary.librarymarket.com/event/summer-finale-placeholder
 -310699
END:VEVENT
END:VCALENDAR
