BEGIN:VCALENDAR
VERSION:2.0
PRODID:-//Library Market//iCal Export//EN
BEGIN:VEVENT
SUMMARY:Thinking About the Mediterranean Diet to Support Your Health? Star
 t Here.
UID:295891
DTSTAMP:20260424T022500Z
DTSTART:20260908T180000Z
DTEND:20260908T190000Z
LOCATION:Osprey Library, 337 N. Tamiami Trail, Osprey, FL 34229, United St
 ates
ROOM: Classroom A/B
DESCRIPTION:Tips and Tricks for maintaining the Mediterranean Diet.
URL:https://scgovlibrary.librarymarket.com/event/hold-osprey-libraryhistor
 y-center-programming-295891
END:VEVENT
END:VCALENDAR
