BEGIN:VCALENDAR
VERSION:2.0
PRODID:-//Library Market//iCal Export//EN
BEGIN:VEVENT
SUMMARY:Monday Matinee | 1776 (1972)
UID:331251
DTSTAMP:20260423T132400Z
DTSTART:20260706T170000Z
DTEND:20260706T193000Z
LOCATION:Gulf Gate Library, 7112 Curtiss Avenue, Sarasota, FL 34231, Unite
 d States
ROOM: Meeting Room A
DESCRIPTION:Join us for a relaxing library matinee featuring a film on our
  big screen.This month’s movie is 1776 (1972, 141 minutes).Synopsis: Ada
 ptation of the Broadway Tony-winning musical celebrates the founding fathe
 rs&#039; midwifery of the Declaration of Independence, the document that w
 ould give birth to a nation.*** First come, first seated ***
URL:https://scgovlibrary.librarymarket.com/index.php/event/monday-matinee-
 1776-1972-331251
END:VEVENT
END:VCALENDAR
