BEGIN:VCALENDAR
VERSION:2.0
PRODID:-//Library Market//iCal Export//EN
BEGIN:VEVENT
SUMMARY:Toy Time
UID:331155
DTSTAMP:20260423T194300Z
DTSTART:20260529T150000Z
DTEND:20260529T153000Z
LOCATION:Selby Library, 1331 First St., Sarasota, FL 34236, United States
ROOM: Youth Program Room
DESCRIPTION:Play with toys and enjoy being social with friends!
URL:https://scgovlibrary.librarymarket.com/index.php/event/toy-time-331155
END:VEVENT
END:VCALENDAR
