BEGIN:VCALENDAR
VERSION:2.0
PRODID:-//Library Market//iCal Export//EN
BEGIN:VEVENT
SUMMARY:Music with Mr. Dave Moran
UID:331154
DTSTAMP:20260424T224000Z
DTSTART:20260522T150000Z
DTEND:20260522T153000Z
LOCATION:Selby Library, 1331 First St., Sarasota, FL 34236, United States
ROOM: Youth Program Room
DESCRIPTION:Join folk guitarist and singer Dave Moran for a collection of 
 children&#039;s songs with a show from the Selby puppets.
URL:https://scgovlibrary.librarymarket.com/index.php/event/music-mr-dave-m
 oran-331154
END:VEVENT
END:VCALENDAR
