BEGIN:VCALENDAR
VERSION:2.0
PRODID:-//Library Market//iCal Export//EN
BEGIN:VEVENT
SUMMARY:Learn and Play Storytime
UID:331152
DTSTAMP:20260424T022500Z
DTSTART:20260501T150000Z
DTEND:20260501T153000Z
LOCATION:Selby Library, 1331 First St., Sarasota, FL 34236, United States
ROOM: Youth Program Room
DESCRIPTION:Join your friends for stories, rhymes, sign language, and othe
 r activities in this story time for babies and toddlers.
URL:https://scgovlibrary.librarymarket.com/index.php/event/learn-and-play-
 storytime-331152
END:VEVENT
END:VCALENDAR
