BEGIN:VCALENDAR
VERSION:2.0
PRODID:-//Library Market//iCal Export//EN
BEGIN:VEVENT
SUMMARY:Fun to be Fit Kids
UID:330819
DTSTAMP:20260424T155500Z
DTSTART:20260518T143000Z
DTEND:20260518T151500Z
LOCATION:North Port Library, 13800 Tamiami Trail, North Port, FL 34287, Un
 ited States
ROOM: Veranda Room
DESCRIPTION:This event is one of the many programs happening throughout Sa
 rasota County for the Remake Learning Days Festival. Support for this prog
 ram has been provided by the Patterson Foundation. 
URL:https://scgovlibrary.librarymarket.com/index.php/event/fun-be-fit-kids
 -330819
END:VEVENT
END:VCALENDAR
