BEGIN:VCALENDAR
VERSION:2.0
PRODID:-//Library Market//iCal Export//EN
BEGIN:VEVENT
SUMMARY:OneBlood Big Red Bus
UID:330360
DTSTAMP:20260422T043000Z
DTSTART:20260512T140000Z
DTEND:20260512T190000Z
LOCATION:North Port Library, 13800 Tamiami Trail, North Port, FL 34287, Un
 ited States
ROOM: OneBlood Big Red Bus
DESCRIPTION:OneBlood donation drives helps maintain a steady and reliable 
 blood supply for hospitals, especially in emergencies. By bringing donati
 on opportunities directly into the community, OneBlood increases participa
 tion and helps save lives through accessible donation options.To thank don
 ors for their lifesaving efforts on May 12, all donors will receive,$20 eG
 ift CardBig Red Bus Sunshade   
URL:https://scgovlibrary.librarymarket.com/index.php/event/oneblood-blood-
 bus-330360
END:VEVENT
END:VCALENDAR
