BEGIN:VCALENDAR
VERSION:2.0
PRODID:-//Library Market//iCal Export//EN
BEGIN:VEVENT
SUMMARY:A Musical Journey Through Florida
UID:322153
DTSTAMP:20260424T022500Z
DTSTART:20260629T220000Z
DTEND:20260629T230000Z
LOCATION:Selby Library, 1331 First St., Sarasota, FL 34236, United States
ROOM: Jack J. Geldbart Auditorium
DESCRIPTION:Chris takes audiences on a historical journey through the stat
 e, featuring performances of songs covering a wealth of historical events,
  characters, and folklore with in-depth storytelling about Ponce de Leonâ€
 ™s voyage to Florida in 1513, Henry Flaglerâ€™s building of the Florida Ea
 st Coast Railway, Floridaâ€™s unique ecosystems, and more. Original songs 
 come from Chris Kahlâ€™s Florida-themed albums, Orange Blossom Memories an
 d Sunshine Kid.Â Chris Kahl is a Florida folk musician and storyteller. He
  wrote and recorded two Florida-themed albums,Â Orange Blossom Memories, a
 ndÂ Sunshine Kid. He performs statewide and presented for the Florida Huma
 nities, Florida Historical Society, and Arts4All Florida, among others. He
  is a graduate of Rollins College.
URL:https://scgovlibrary.librarymarket.com/index.php/event/adult-tba-32215
 3
END:VEVENT
END:VCALENDAR
