BEGIN:VCALENDAR
VERSION:2.0
PRODID:-//Library Market//iCal Export//EN
BEGIN:VEVENT
SUMMARY:Amazing Purple Martin
UID:318973
DTSTAMP:20260424T155500Z
DTSTART:20260731T180000Z
DTEND:20260731T193000Z
LOCATION:North Port Library, 13800 Tamiami Trail, North Port, FL 34287, Un
 ited States
ROOM: Veranda Room
DESCRIPTION:This one-hour presentation describes these beautiful songbirds
 , their breeding habits, care of their young and epic migration between So
 uth and North America. Ways to positively impact their conservation will a
 lso be discussed.
URL:https://scgovlibrary.librarymarket.com/index.php/event/amazing-purple-
 martin-318973
END:VEVENT
END:VCALENDAR
