BEGIN:VCALENDAR
VERSION:2.0
PRODID:-//Library Market//iCal Export//EN
BEGIN:VEVENT
SUMMARY:Summer Learning: Tarot Literacy
UID:318650
DTSTAMP:20260423T060700Z
DTSTART:20260610T203000Z
DTEND:20260610T223000Z
LOCATION:Gulf Gate Library, 7112 Curtiss Avenue, Sarasota, FL 34231, Unite
 d States
ROOM: Learning Lab
DESCRIPTION:Curious about tarot? Interested in learning how to read a spre
 ad for yourself but overwhelmed by where to start? In this biweekly series
 , patrons will learn how to interpret the cards with a lens of guidance, i
 ntuition, and self-actualization. All levels of experience welcome! Begin
 s June 10th. Recommended for ages 16 and up. Patrons are welcome to bring 
 their own tarot decks but doing so is not required.
URL:https://scgovlibrary.librarymarket.com/index.php/event/tarot-literacy-
 318650
END:VEVENT
END:VCALENDAR
