BEGIN:VCALENDAR
VERSION:2.0
PRODID:-//Library Market//iCal Export//EN
BEGIN:VEVENT
SUMMARY:Chair Yoga With Manching
UID:317945
DTSTAMP:20260424T022500Z
DTSTART:20260619T180000Z
DTEND:20260619T190000Z
LOCATION:Selby Library, 1331 First St., Sarasota, FL 34236, United States
ROOM: Jack J. Geldbart Auditorium
DESCRIPTION:A new class designed for everyone regardless of age or fitness
  level. Join us to explore basic yoga poses to develop strength, flexibili
 ty and balance. This is a perfect class for anyone who’s new to yoga, li
 ving with limited mobility, or coming back from an injury. Beginners welco
 me.This is a 7-week series with the following dates: June 12, June 19, Jun
 e 26, July 10, July 16, July 24, July 31. Attendance at all 7 sessions is
  suggested, but not required. Please register for each session you wish to
  attend. Note: The July 16th class is on Thursday; all the other classes a
 re on Fridays.    Taught by Manching Tom, Certified Yoga Instructor.*** 
 Please bring a yoga block and strap if available.*** Waiver Forms will be 
 available and must be completed by each participant before the class.Pleas
 e ensure that you are on time. We will begin to let waitlisted people into
  the class immediately after the start time, and you may lose your spot if
  you are late. Please cancel your registration if you cannot make it so th
 at others may join. We appreciate your consideration!
URL:https://scgovlibrary.librarymarket.com/index.php/event/chair-yoga-manc
 hing-317945
END:VEVENT
END:VCALENDAR
