BEGIN:VCALENDAR
VERSION:2.0
PRODID:-//Library Market//iCal Export//EN
BEGIN:VEVENT
SUMMARY:Summer Learning Kickoff: Potato Party
UID:310694
DTSTAMP:20260422T102800Z
DTSTART:20260610T170000Z
DTEND:20260610T190000Z
LOCATION:Betty J. Johnson North Sarasota Library, 2801 Newtown Blvd., Sara
 sota, FL 34234, United States
ROOM: Dr. Edward James II Meeting Room
DESCRIPTION:Join us for a spud-tacular celebration for your whole family! 
 Enjoy hands-on crafts, STEM activities, a food truck, and more! 
URL:https://scgovlibrary.librarymarket.com/index.php/event/summer-kickoff-
 placeholder-310694
END:VEVENT
END:VCALENDAR
