BEGIN:VCALENDAR
VERSION:2.0
PRODID:-//Library Market//iCal Export//EN
BEGIN:VEVENT
SUMMARY:Summer Learning: UF/IFAS Palms: Fact and Fiction
UID:305969
DTSTAMP:20260425T213800Z
DTSTART:20260603T200000Z
DTEND:20260603T210000Z
LOCATION:North Port Library, 13800 Tamiami Trail, North Port, FL 34287, Un
 ited States
ROOM: Veranda Room
DESCRIPTION:What is tropical, relaxing, and associated with white beaches 
 and gorgeous sunsets (besides drinks with umbrellas)? Palms, of course!Lea
 rn all about palms in your Florida landscape, from planting to pruning. Ge
 t the real story on “hurricane cuts,” discover how caring for palms di
 ffers from tree care, and go home with a slew of practical tips and techni
 ques to keep your palms looking their best.
URL:https://scgovlibrary.librarymarket.com/index.php/event/ufifas-305969
END:VEVENT
END:VCALENDAR
