BEGIN:VCALENDAR
VERSION:2.0
PRODID:-//Library Market//iCal Export//EN
BEGIN:VEVENT
SUMMARY:Summer Learning: Calm, Create, Explore - Sensory Garden Hour
UID:255079
DTSTAMP:20260424T050500Z
DTSTART:20260701T180000Z
DTEND:20260701T190000Z
LOCATION:Betty J. Johnson North Sarasota Library, 2801 Newtown Blvd., Sara
 sota, FL 34234, United States
ROOM: Meeting Room II
DESCRIPTION:Drop in and enjoy a calming, garden-inspired program with tact
 ile stations and simple crafts for children aged 2-10 and sensory seekers.
  
URL:https://scgovlibrary.librarymarket.com/index.php/event/youth-program-p
 laceholder-255079
END:VEVENT
END:VCALENDAR
